BEGIN:VCALENDAR
METHOD:REQUEST
PRODID:-//events.orgNONSGML ical.net 4.0//EN
VERSION:2.0
BEGIN:VEVENT
DTEND;VALUE=DATE:20260827
DTSTAMP:20260422T084549Z
DTSTART;VALUE=DATE:20260827
LOCATION:Cal Coast Credit Union Open Air Theatre at SDSU\, San Diego
ORGANIZER;CN=:mailto:events@events.org
SEQUENCE:0
SUMMARY:An Evening With David Byrne - Who is the Sky Tour
UID:f0fff3fd-55a9-482a-9fd7-9218791e1c36
URL:https://events.org/e/An-Evening-With-David-Byrne---Who-is-the-Sky-Tour
 /9D8MK4WR
BEGIN:VALARM
ACTION:DISPLAY
SUMMARY:Reminder
TRIGGER:-P1D
END:VALARM
END:VEVENT
END:VCALENDAR
