BEGIN:VCALENDAR
METHOD:REQUEST
PRODID:-//events.orgNONSGML ical.net 4.0//EN
VERSION:2.0
BEGIN:VEVENT
DTEND;VALUE=DATE:20260523
DTSTAMP:20260422T091216Z
DTSTART;VALUE=DATE:20260523
LOCATION:Wintrust Arena\, Chicago
ORGANIZER;CN=:mailto:events@events.org
SEQUENCE:0
SUMMARY:Chicago Sky vs. Minnesota Lynx
UID:8cfdcb45-97dc-4606-9d16-1ff120d75064
URL:https://events.org/e/Chicago-Sky-vs-Minnesota-Lynx/HPH825DU
BEGIN:VALARM
ACTION:DISPLAY
SUMMARY:Reminder
TRIGGER:-P1D
END:VALARM
END:VEVENT
END:VCALENDAR
