BEGIN:VCALENDAR
METHOD:REQUEST
PRODID:-//events.orgNONSGML ical.net 4.0//EN
VERSION:2.0
BEGIN:VEVENT
DTEND;VALUE=DATE:20260621
DTSTAMP:20260421T104219Z
DTSTART;VALUE=DATE:20260621
LOCATION:The Atlantis\, Washington
ORGANIZER;CN=:mailto:events@events.org
SEQUENCE:0
SUMMARY:Del Amitri
UID:bddf1cca-6108-4d0a-af75-28c14ccd2c3e
URL:https://events.org/e/Del-Amitri/K9K2R2MH
BEGIN:VALARM
ACTION:DISPLAY
SUMMARY:Reminder
TRIGGER:-P1D
END:VALARM
END:VEVENT
END:VCALENDAR
