BEGIN:VCALENDAR
METHOD:REQUEST
PRODID:-//events.orgNONSGML ical.net 4.0//EN
VERSION:2.0
BEGIN:VEVENT
DTEND;VALUE=DATE:20260529
DTSTAMP:20260424T080801Z
DTSTART;VALUE=DATE:20260529
LOCATION:Empty Bottle\, Chicago
ORGANIZER;CN=:mailto:events@events.org
SEQUENCE:0
SUMMARY:Hard Country Honky Tonk with The Hoyle Brothers
UID:38938417-9f32-4d58-92bb-54dfe92ddce5
URL:https://events.org/e/Hard-Country-Honky-Tonk-with-The-Hoyle-Brothers/H
 FQ8YHQ6
BEGIN:VALARM
ACTION:DISPLAY
SUMMARY:Reminder
TRIGGER:-P1D
END:VALARM
END:VEVENT
END:VCALENDAR
