BEGIN:VCALENDAR
METHOD:REQUEST
PRODID:-//events.orgNONSGML ical.net 4.0//EN
VERSION:2.0
BEGIN:VEVENT
DTEND;VALUE=DATE:20260615
DTSTAMP:20260421T094230Z
DTSTART;VALUE=DATE:20260615
LOCATION:The Foundry\, Philadelphia
ORGANIZER;CN=:mailto:events@events.org
SEQUENCE:0
SUMMARY:GRAHAM - The MOODSWINGS Tour
UID:3bdf5d7b-450e-4620-9e8f-a84826b3e7d4
URL:https://events.org/e/GRAHAM---The-MOODSWINGS-Tour/IW336SJ4
BEGIN:VALARM
ACTION:DISPLAY
SUMMARY:Reminder
TRIGGER:-P1D
END:VALARM
END:VEVENT
END:VCALENDAR
