BEGIN:VCALENDAR
METHOD:REQUEST
PRODID:-//events.orgNONSGML ical.net 4.0//EN
VERSION:2.0
BEGIN:VEVENT
DTEND;VALUE=DATE:20260428
DTSTAMP:20260424T080429Z
DTSTART;VALUE=DATE:20260428
LOCATION:John Golden Theatre\, New York
ORGANIZER;CN=:mailto:events@events.org
SEQUENCE:0
SUMMARY:Operation Mincemeat: A New Musical
UID:3580a82e-b407-4a35-8ed7-378bcd16196a
URL:https://events.org/e/Operation-Mincemeat-A-New-Musical/UYECWIOX
BEGIN:VALARM
ACTION:DISPLAY
SUMMARY:Reminder
TRIGGER:-P1D
END:VALARM
END:VEVENT
END:VCALENDAR
