BEGIN:VCALENDAR
METHOD:REQUEST
PRODID:-//events.orgNONSGML ical.net 4.0//EN
VERSION:2.0
BEGIN:VEVENT
DTEND;VALUE=DATE:20260715
DTSTAMP:20260421T094518Z
DTSTART;VALUE=DATE:20260715
LOCATION:The National Theatre\, Washington
ORGANIZER;CN=:mailto:events@events.org
SEQUENCE:0
SUMMARY:Beetlejuice (Touring)
UID:c2f1635e-9642-496d-a4e1-d85f3c5ebe64
URL:https://events.org/e/Beetlejuice-Touring/VY7VCBV2
BEGIN:VALARM
ACTION:DISPLAY
SUMMARY:Reminder
TRIGGER:-P1D
END:VALARM
END:VEVENT
END:VCALENDAR
