BEGIN:VCALENDAR
METHOD:REQUEST
PRODID:-//events.orgNONSGML ical.net 4.0//EN
VERSION:2.0
BEGIN:VEVENT
DTEND;VALUE=DATE:20260630
DTSTAMP:20260421T103936Z
DTSTART;VALUE=DATE:20260630
LOCATION:Paramount Theatre\, Denver
ORGANIZER;CN=:mailto:events@events.org
SEQUENCE:0
SUMMARY:Five for Fighting & Edwin McCain
UID:5d9aafcb-539e-4696-bd84-ca355af48e37
URL:https://events.org/e/Five-for-Fighting-Edwin-McCain/QMVY2PNO
BEGIN:VALARM
ACTION:DISPLAY
SUMMARY:Reminder
TRIGGER:-P1D
END:VALARM
END:VEVENT
END:VCALENDAR
