BEGIN:VCALENDAR
METHOD:REQUEST
PRODID:-//events.orgNONSGML ical.net 4.0//EN
VERSION:2.0
BEGIN:VEVENT
DTEND;VALUE=DATE:20260514
DTSTAMP:20260423T153655Z
DTSTART;VALUE=DATE:20260514
LOCATION:Buell Theatre\, Denver
ORGANIZER;CN=:mailto:events@events.org
SEQUENCE:0
SUMMARY:MJ (Touring)
UID:3de49ed4-a1b2-40e1-9946-5be2d9841e13
URL:https://events.org/e/MJ-Touring/X39UVQTO
BEGIN:VALARM
ACTION:DISPLAY
SUMMARY:Reminder
TRIGGER:-P1D
END:VALARM
END:VEVENT
END:VCALENDAR
