BEGIN:VCALENDAR
METHOD:REQUEST
PRODID:-//events.orgNONSGML ical.net 4.0//EN
VERSION:2.0
BEGIN:VEVENT
DTEND;VALUE=DATE:20260530
DTSTAMP:20260421T102316Z
DTSTART;VALUE=DATE:20260530
LOCATION:Bluebird Theatre\, Denver
ORGANIZER;CN=:mailto:events@events.org
SEQUENCE:0
SUMMARY:Crimewave (16 and Over)
UID:5f439085-0712-4fb6-b579-13931e43ad13
URL:https://events.org/e/Crimewave-16-and-Over/NYQA7OOK
BEGIN:VALARM
ACTION:DISPLAY
SUMMARY:Reminder
TRIGGER:-P1D
END:VALARM
END:VEVENT
END:VCALENDAR
