BEGIN:VCALENDAR
METHOD:REQUEST
PRODID:-//events.orgNONSGML ical.net 4.0//EN
VERSION:2.0
BEGIN:VEVENT
DTEND;VALUE=DATE:20260614
DTSTAMP:20260421T095605Z
DTSTART;VALUE=DATE:20260614
LOCATION:NRG Stadium\, Houston
ORGANIZER;CN=:mailto:events@events.org
SEQUENCE:0
SUMMARY:World Cup: Match 10 ??? Group E - Germany vs Curacao
UID:ab885cb5-c9a7-447a-9f6d-72653404bb76
URL:https://events.org/e/World-Cup-Match-10-Group-E---Germany-vs-Curacao/G
 LN68A3W
BEGIN:VALARM
ACTION:DISPLAY
SUMMARY:Reminder
TRIGGER:-P1D
END:VALARM
END:VEVENT
END:VCALENDAR
