BEGIN:VCALENDAR
METHOD:REQUEST
PRODID:-//events.orgNONSGML ical.net 4.0//EN
VERSION:2.0
BEGIN:VEVENT
DTEND;VALUE=DATE:20260519
DTSTAMP:20260419T130141Z
DTSTART;VALUE=DATE:20260519
LOCATION:Thalia Hall\, Chicago
ORGANIZER;CN=:mailto:events@events.org
SEQUENCE:0
SUMMARY:Twin Peaks
UID:9e4f65aa-952c-48e3-97a4-74ec1e1fc126
URL:https://events.org/e/Twin-Peaks/EX77G4QP
BEGIN:VALARM
ACTION:DISPLAY
SUMMARY:Reminder
TRIGGER:-P1D
END:VALARM
END:VEVENT
END:VCALENDAR
