BEGIN:VCALENDAR
METHOD:REQUEST
PRODID:-//events.orgNONSGML ical.net 4.0//EN
VERSION:2.0
BEGIN:VEVENT
DTEND;VALUE=DATE:20260919
DTSTAMP:20260422T090626Z
DTSTART;VALUE=DATE:20260919
LOCATION:Lincoln Financial Field\, Philadelphia
ORGANIZER;CN=:mailto:events@events.org
SEQUENCE:0
SUMMARY:Ed Sheeran: LOOP Tour
UID:5250ea8e-62ce-440a-affb-664b0663408b
URL:https://events.org/e/Ed-Sheeran-LOOP-Tour/S942DWRS
BEGIN:VALARM
ACTION:DISPLAY
SUMMARY:Reminder
TRIGGER:-P1D
END:VALARM
END:VEVENT
END:VCALENDAR
