BEGIN:VCALENDAR
METHOD:REQUEST
PRODID:-//events.orgNONSGML ical.net 4.0//EN
VERSION:2.0
BEGIN:VEVENT
DTEND;VALUE=DATE:20260604
DTSTAMP:20260423T133703Z
DTSTART;VALUE=DATE:20260604
LOCATION:Alliance Theatre - Coca-Cola Stage\, Atlanta
ORGANIZER;CN=:mailto:events@events.org
SEQUENCE:0
SUMMARY:Basura Musical
UID:c2e8d501-388d-418c-9875-afcb6353e3df
URL:https://events.org/e/Basura-Musical/4ID7A3YT
BEGIN:VALARM
ACTION:DISPLAY
SUMMARY:Reminder
TRIGGER:-P1D
END:VALARM
END:VEVENT
END:VCALENDAR
