BEGIN:VCALENDAR
METHOD:REQUEST
PRODID:-//events.orgNONSGML ical.net 4.0//EN
VERSION:2.0
BEGIN:VEVENT
DTEND;VALUE=DATE:20260625
DTSTAMP:20260422T092427Z
DTSTART;VALUE=DATE:20260625
LOCATION:Showbox SODO\, Seattle
ORGANIZER;CN=:mailto:events@events.org
SEQUENCE:0
SUMMARY:Dance Gavin Dance (21 and Over)
UID:eda07fdf-f0aa-41f8-adee-77db113419f8
URL:https://events.org/e/Dance-Gavin-Dance-21-and-Over/VJ979WLO
BEGIN:VALARM
ACTION:DISPLAY
SUMMARY:Reminder
TRIGGER:-P1D
END:VALARM
END:VEVENT
END:VCALENDAR
