BEGIN:VCALENDAR
METHOD:REQUEST
PRODID:-//events.orgNONSGML ical.net 4.0//EN
VERSION:2.0
BEGIN:VEVENT
DTEND;VALUE=DATE:20260505
DTSTAMP:20260424T081038Z
DTSTART;VALUE=DATE:20260505
LOCATION:South Side Studios\, Dallas
ORGANIZER;CN=:mailto:events@events.org
SEQUENCE:0
SUMMARY:Balloon Museum | Let's Fly - Art Has No Limits - Dallas
UID:24b648b9-6a46-478d-af05-e192a6ee7c30
URL:https://events.org/e/Balloon-Museum-Lets-Fly---Art-Has-No-Limits--/2GM
 F23KI
BEGIN:VALARM
ACTION:DISPLAY
SUMMARY:Reminder
TRIGGER:-P1D
END:VALARM
END:VEVENT
END:VCALENDAR
