BEGIN:VCALENDAR
METHOD:REQUEST
PRODID:-//events.orgNONSGML ical.net 4.0//EN
VERSION:2.0
BEGIN:VEVENT
DTEND;VALUE=DATE:20260918
DTSTAMP:20260419T142930Z
DTSTART;VALUE=DATE:20260918
LOCATION:House of Blues Dallas \, Dallas
ORGANIZER;CN=:mailto:events@events.org
SEQUENCE:0
SUMMARY:W.A.S.P. - 1984 TO HEADLESS
UID:a89e0529-08b3-443b-a2a4-7ed3cd4f6f68
URL:https://events.org/e/WASP---1984-TO-HEADLESS/ISR7FF9M
BEGIN:VALARM
ACTION:DISPLAY
SUMMARY:Reminder
TRIGGER:-P1D
END:VALARM
END:VEVENT
END:VCALENDAR
