BEGIN:VCALENDAR
METHOD:REQUEST
PRODID:-//events.orgNONSGML ical.net 4.0//EN
VERSION:2.0
BEGIN:VEVENT
DTEND;VALUE=DATE:20260804
DTSTAMP:20260422T092427Z
DTSTART;VALUE=DATE:20260804
LOCATION:Daikin Park\, Houston
ORGANIZER;CN=:mailto:events@events.org
SEQUENCE:0
SUMMARY:Houston Astros vs. Toronto Blue Jays
UID:82ced882-edb4-4e64-8913-837bb5151e94
URL:https://events.org/e/Houston-Astros-vs-Toronto-Blue-Jays/JFPJQ8P9
BEGIN:VALARM
ACTION:DISPLAY
SUMMARY:Reminder
TRIGGER:-P1D
END:VALARM
END:VEVENT
END:VCALENDAR
