BEGIN:VCALENDAR
METHOD:REQUEST
PRODID:-//events.orgNONSGML ical.net 4.0//EN
VERSION:2.0
BEGIN:VEVENT
DTEND;VALUE=DATE:20260707
DTSTAMP:20260422T091122Z
DTSTART;VALUE=DATE:20260707
LOCATION:The Castro Theatre\, San Francisco
ORGANIZER;CN=:mailto:events@events.org
SEQUENCE:0
SUMMARY:Kurt Vile & the Violators: KV'S BEEN GOOD TO ME TOUR
UID:d5f567e1-10c4-462f-b4b8-61c1aab5a6ef
URL:https://events.org/e/Kurt-Vile-the-Violators-KVS-BEEN-GOOD-TO-ME-TOUR/
 36FVGO8L
BEGIN:VALARM
ACTION:DISPLAY
SUMMARY:Reminder
TRIGGER:-P1D
END:VALARM
END:VEVENT
END:VCALENDAR
