BEGIN:VCALENDAR
METHOD:REQUEST
PRODID:-//events.orgNONSGML ical.net 4.0//EN
VERSION:2.0
BEGIN:VEVENT
DTEND;VALUE=DATE:20260426
DTSTAMP:20260424T081436Z
DTSTART;VALUE=DATE:20260426
LOCATION:Winter Garden Theatre\, New York
ORGANIZER;CN=:mailto:events@events.org
SEQUENCE:0
SUMMARY:Arthur Miller's Death of a Salesman
UID:7a0f852d-97e6-481c-b79a-635b7cbdb9e4
URL:https://events.org/e/Arthur-Millers-Death-of-a-Salesman/PV4HGU94
BEGIN:VALARM
ACTION:DISPLAY
SUMMARY:Reminder
TRIGGER:-P1D
END:VALARM
END:VEVENT
END:VCALENDAR
