BEGIN:VCALENDAR
METHOD:REQUEST
PRODID:-//events.orgNONSGML ical.net 4.0//EN
VERSION:2.0
BEGIN:VEVENT
DTEND;VALUE=DATE:20260508
DTSTAMP:20260424T081006Z
DTSTART;VALUE=DATE:20260508
LOCATION:South Side Music Hall\, Dallas
ORGANIZER;CN=:mailto:events@events.org
SEQUENCE:0
SUMMARY:Emo Nite
UID:7bc81876-7bca-4b00-8a24-a5bae354c4ed
URL:https://events.org/e/Emo-Nite/NKSFRHQA
BEGIN:VALARM
ACTION:DISPLAY
SUMMARY:Reminder
TRIGGER:-P1D
END:VALARM
END:VEVENT
END:VCALENDAR
