BEGIN:VCALENDAR
METHOD:REQUEST
PRODID:-//events.orgNONSGML ical.net 4.0//EN
VERSION:2.0
BEGIN:VEVENT
DTEND;VALUE=DATE:20260528
DTSTAMP:20260424T081130Z
DTSTART;VALUE=DATE:20260528
LOCATION:CIBC Theatre\, Chicago
ORGANIZER;CN=:mailto:events@events.org
SEQUENCE:0
SUMMARY:Monty Python's Spamalot (Chicago)
UID:de79ac0b-6fa4-481c-8461-dfba8cfbe162
URL:https://events.org/e/Monty-Pythons-Spamalot-Chicago/DO8R6XAD
BEGIN:VALARM
ACTION:DISPLAY
SUMMARY:Reminder
TRIGGER:-P1D
END:VALARM
END:VEVENT
END:VCALENDAR
