BEGIN:VCALENDAR
METHOD:REQUEST
PRODID:-//events.orgNONSGML ical.net 4.0//EN
VERSION:2.0
BEGIN:VEVENT
DTEND;VALUE=DATE:20260502
DTSTAMP:20260421T104317Z
DTSTART;VALUE=DATE:20260502
LOCATION:Moore Theatre\, Seattle
ORGANIZER;CN=:mailto:events@events.org
SEQUENCE:0
SUMMARY:Bbhs Drama: The Music Man
UID:0c8b7381-5bd5-4c46-82b3-9a41df082a88
URL:https://events.org/e/Bbhs-Drama-The-Music-Man/Y7WKUFK4
BEGIN:VALARM
ACTION:DISPLAY
SUMMARY:Reminder
TRIGGER:-P1D
END:VALARM
END:VEVENT
END:VCALENDAR
