BEGIN:VCALENDAR
METHOD:REQUEST
PRODID:-//events.orgNONSGML ical.net 4.0//EN
VERSION:2.0
BEGIN:VEVENT
DTEND;VALUE=DATE:20260429
DTSTAMP:20260423T133752Z
DTSTART;VALUE=DATE:20260429
LOCATION:Majestic Theatre-MI\, Detroit
ORGANIZER;CN=:mailto:events@events.org
SEQUENCE:0
SUMMARY:They Might Be Giants
UID:8d1c1598-0635-47a3-a6c1-50eed75d6050
URL:https://events.org/e/They-Might-Be-Giants/LVDQPFUW
BEGIN:VALARM
ACTION:DISPLAY
SUMMARY:Reminder
TRIGGER:-P1D
END:VALARM
END:VEVENT
END:VCALENDAR
