BEGIN:VCALENDAR
METHOD:REQUEST
PRODID:-//events.orgNONSGML ical.net 4.0//EN
VERSION:2.0
BEGIN:VEVENT
DTEND;VALUE=DATE:20260708
DTSTAMP:20260422T132113Z
DTSTART;VALUE=DATE:20260708
LOCATION:The Masquerade - Purgatory\, Atlanta
ORGANIZER;CN=:mailto:events@events.org
SEQUENCE:0
SUMMARY:Man Man
UID:16e765b3-cb5e-4ff9-a8c3-4b6ab5c5d98b
URL:https://events.org/e/Man-Man/52OX6JXH
BEGIN:VALARM
ACTION:DISPLAY
SUMMARY:Reminder
TRIGGER:-P1D
END:VALARM
END:VEVENT
END:VCALENDAR
