BEGIN:VCALENDAR
METHOD:REQUEST
PRODID:-//events.orgNONSGML ical.net 4.0//EN
VERSION:2.0
BEGIN:VEVENT
DTEND;VALUE=DATE:20260614
DTSTAMP:20260424T092047Z
DTSTART;VALUE=DATE:20260614
LOCATION:Mass Bay Lines Music City Queen\, Boston
ORGANIZER;CN=:mailto:events@events.org
SEQUENCE:0
SUMMARY:Bearly Dead Boston Harbor Boat Cruise
UID:8d3e118a-b2d4-413f-abe8-b5d65533155b
URL:https://events.org/e/Bearly-Dead-Boston-Harbor-Boat-Cruise/K48S9BSH
BEGIN:VALARM
ACTION:DISPLAY
SUMMARY:Reminder
TRIGGER:-P1D
END:VALARM
END:VEVENT
END:VCALENDAR
