BEGIN:VCALENDAR
METHOD:REQUEST
PRODID:-//events.orgNONSGML ical.net 4.0//EN
VERSION:2.0
BEGIN:VEVENT
DTEND;VALUE=DATE:20260625
DTSTAMP:20260421T104354Z
DTSTART;VALUE=DATE:20260625
LOCATION:TSDMAAC (Confessional)\, Detroit
ORGANIZER;CN=:mailto:events@events.org
SEQUENCE:0
SUMMARY:Crimson Love\, Pageant\, The Blank\, Savetta
UID:bae06001-19b6-413b-b16f-e5ff9d00ee1f
URL:https://events.org/e/Crimson-Love-Pageant-The-Blank-Savetta/JPSEN8AU
BEGIN:VALARM
ACTION:DISPLAY
SUMMARY:Reminder
TRIGGER:-P1D
END:VALARM
END:VEVENT
END:VCALENDAR
