BEGIN:VCALENDAR
METHOD:REQUEST
PRODID:-//events.orgNONSGML ical.net 4.0//EN
VERSION:2.0
BEGIN:VEVENT
DTEND;VALUE=DATE:20260711
DTSTAMP:20260422T092340Z
DTSTART;VALUE=DATE:20260711
LOCATION:Fox Theatre - Atlanta\, Atlanta
ORGANIZER;CN=:mailto:events@events.org
SEQUENCE:0
SUMMARY:Jill Scott - To Whom This May Concern Tour
UID:d373ecfa-91da-4301-8c1a-8b13854d4ee7
URL:https://events.org/e/Jill-Scott---To-Whom-This-May-Concern-Tour/LN9BV2
 PK
BEGIN:VALARM
ACTION:DISPLAY
SUMMARY:Reminder
TRIGGER:-P1D
END:VALARM
END:VEVENT
END:VCALENDAR
