BEGIN:VCALENDAR
METHOD:REQUEST
PRODID:-//events.orgNONSGML ical.net 4.0//EN
VERSION:2.0
BEGIN:VEVENT
DTEND;VALUE=DATE:20260623
DTSTAMP:20260421T082140Z
DTSTART;VALUE=DATE:20260623
LOCATION:The Chapel\, San Francisco
ORGANIZER;CN=:mailto:events@events.org
SEQUENCE:0
SUMMARY:Gia Margaret
UID:90a0d3ac-828a-47f3-a967-19125d355d8a
URL:https://events.org/e/Gia-Margaret/3JGBUVSN
BEGIN:VALARM
ACTION:DISPLAY
SUMMARY:Reminder
TRIGGER:-P1D
END:VALARM
END:VEVENT
END:VCALENDAR
