BEGIN:VCALENDAR
METHOD:REQUEST
PRODID:-//events.orgNONSGML ical.net 4.0//EN
VERSION:2.0
BEGIN:VEVENT
DTEND;VALUE=DATE:20260611
DTSTAMP:20260421T095838Z
DTSTART;VALUE=DATE:20260611
LOCATION:Palace of Fine Arts\, San Francisco
ORGANIZER;CN=:mailto:events@events.org
SEQUENCE:0
SUMMARY:Bruce Hornsby & The Noisemakers: Indigo Park Tour
UID:6ca9165e-fadd-4154-940e-161be9dbdd1e
URL:https://events.org/e/Bruce-Hornsby-The-Noisemakers-Indigo-Park-Tour/2X
 MRV3C8
BEGIN:VALARM
ACTION:DISPLAY
SUMMARY:Reminder
TRIGGER:-P1D
END:VALARM
END:VEVENT
END:VCALENDAR
