BEGIN:VCALENDAR
METHOD:REQUEST
PRODID:-//events.orgNONSGML ical.net 4.0//EN
VERSION:2.0
BEGIN:VEVENT
DTEND;VALUE=DATE:20260424
DTSTAMP:20260422T090801Z
DTSTART;VALUE=DATE:20260424
LOCATION:Irving Plaza Powered By Verizon 5G\, New York
ORGANIZER;CN=:mailto:events@events.org
SEQUENCE:0
SUMMARY:Eliza McLamb - Good Story Tour
UID:304bd6e8-ae7f-483a-87e8-d5a04a5559e6
URL:https://events.org/e/Eliza-McLamb---Good-Story-Tour/PWGGDHWC
BEGIN:VALARM
ACTION:DISPLAY
SUMMARY:Reminder
TRIGGER:-P1D
END:VALARM
END:VEVENT
END:VCALENDAR
