BEGIN:VCALENDAR
METHOD:REQUEST
PRODID:-//events.orgNONSGML ical.net 4.0//EN
VERSION:2.0
BEGIN:VEVENT
DTEND;VALUE=DATE:20260613
DTSTAMP:20260421T094925Z
DTSTART;VALUE=DATE:20260613
LOCATION:TD Pavilion at Highmark Mann\, Philadelphia
ORGANIZER;CN=:mailto:events@events.org
SEQUENCE:0
SUMMARY:Bleachers Forever
UID:ecd1fd00-b67e-4a8f-b451-6cf5bf0934e3
URL:https://events.org/e/Bleachers-Forever/P834O474
BEGIN:VALARM
ACTION:DISPLAY
SUMMARY:Reminder
TRIGGER:-P1D
END:VALARM
END:VEVENT
END:VCALENDAR
