BEGIN:VCALENDAR
METHOD:REQUEST
PRODID:-//events.orgNONSGML ical.net 4.0//EN
VERSION:2.0
BEGIN:VEVENT
DTEND;VALUE=DATE:20260812
DTSTAMP:20260419T092458Z
DTSTART;VALUE=DATE:20260812
LOCATION:Mortgage Matchup Center\, Phoenix
ORGANIZER;CN=:mailto:events@events.org
SEQUENCE:0
SUMMARY:Melanie Martinez - HADES: THE SACRIFICE
UID:056836ad-98d1-4264-8d03-6818f25187db
URL:https://events.org/e/Melanie-Martinez---HADES-THE-SACRIFICE/JECAUPRC
BEGIN:VALARM
ACTION:DISPLAY
SUMMARY:Reminder
TRIGGER:-P1D
END:VALARM
END:VEVENT
END:VCALENDAR
