BEGIN:VCALENDAR
METHOD:REQUEST
PRODID:-//events.orgNONSGML ical.net 4.0//EN
VERSION:2.0
BEGIN:VEVENT
DTEND;VALUE=DATE:20260522
DTSTAMP:20260422T091308Z
DTSTART;VALUE=DATE:20260522
LOCATION:Union Park\, Chicago
ORGANIZER;CN=:mailto:events@events.org
SEQUENCE:0
SUMMARY:Solomun - Ages 18+
UID:ab0092ed-b3b4-467a-91e4-fc41eb813cda
URL:https://events.org/e/Solomun---Ages-18/3AMBNVOW
BEGIN:VALARM
ACTION:DISPLAY
SUMMARY:Reminder
TRIGGER:-P1D
END:VALARM
END:VEVENT
END:VCALENDAR
