BEGIN:VCALENDAR
METHOD:REQUEST
PRODID:-//events.orgNONSGML ical.net 4.0//EN
VERSION:2.0
BEGIN:VEVENT
DTEND;VALUE=DATE:20260616
DTSTAMP:20260421T103839Z
DTSTART;VALUE=DATE:20260616
LOCATION:Trump Kennedy Center - Opera House\, Washington
ORGANIZER;CN=:mailto:events@events.org
SEQUENCE:0
SUMMARY:Moulin Rouge (Touring)
UID:dc57dd15-8850-457c-a612-cb3f11e550e1
URL:https://events.org/e/Moulin-Rouge-Touring/H982WWBR
BEGIN:VALARM
ACTION:DISPLAY
SUMMARY:Reminder
TRIGGER:-P1D
END:VALARM
END:VEVENT
END:VCALENDAR
