BEGIN:VCALENDAR
METHOD:REQUEST
PRODID:-//events.orgNONSGML ical.net 4.0//EN
VERSION:2.0
BEGIN:VEVENT
DTEND;VALUE=DATE:20260618
DTSTAMP:20260419T154608Z
DTSTART;VALUE=DATE:20260618
LOCATION:Citizens Bank Park\, Philadelphia
ORGANIZER;CN=:mailto:events@events.org
SEQUENCE:0
SUMMARY:Philadelphia Phillies vs. New York Mets
UID:247d7b4b-a3b0-43a8-bef7-1fae781b4f8d
URL:https://events.org/e/Philadelphia-Phillies-vs-New-York-Mets/4FVET3CY
BEGIN:VALARM
ACTION:DISPLAY
SUMMARY:Reminder
TRIGGER:-P1D
END:VALARM
END:VEVENT
END:VCALENDAR
