BEGIN:VCALENDAR
METHOD:REQUEST
PRODID:-//events.orgNONSGML ical.net 4.0//EN
VERSION:2.0
BEGIN:VEVENT
DTEND;VALUE=DATE:20260623
DTSTAMP:20260421T103813Z
DTSTART;VALUE=DATE:20260623
LOCATION:The Fillmore Philadelphia\, Philadelphia
ORGANIZER;CN=:mailto:events@events.org
SEQUENCE:0
SUMMARY:Spoon & The Beths: US Tour 2026
UID:15586594-68d4-47a0-9203-d90e05359c07
URL:https://events.org/e/Spoon-The-Beths-US-Tour-2026/9IYYE7QB
BEGIN:VALARM
ACTION:DISPLAY
SUMMARY:Reminder
TRIGGER:-P1D
END:VALARM
END:VEVENT
END:VCALENDAR
