BEGIN:VCALENDAR
METHOD:REQUEST
PRODID:-//events.orgNONSGML ical.net 4.0//EN
VERSION:2.0
BEGIN:VEVENT
DTEND;VALUE=DATE:20260506
DTSTAMP:20260419T143327Z
DTSTART;VALUE=DATE:20260506
LOCATION:The Upstairs\, Los Angeles
ORGANIZER;CN=:mailto:events@events.org
SEQUENCE:0
SUMMARY:Netflix Is A Joke Presents: Crystal Marie Denha
UID:ae8c4a10-f8bf-420b-bb94-cab2df9fe1d5
URL:https://events.org/e/Netflix-Is-A-Joke-Presents-Crystal-Marie-Denha/BN
 G4Q5GQ
BEGIN:VALARM
ACTION:DISPLAY
SUMMARY:Reminder
TRIGGER:-P1D
END:VALARM
END:VEVENT
END:VCALENDAR
