BEGIN:VCALENDAR
METHOD:REQUEST
PRODID:-//events.orgNONSGML ical.net 4.0//EN
VERSION:2.0
BEGIN:VEVENT
DTEND;VALUE=DATE:20260404
DTSTAMP:20260421T082524Z
DTSTART;VALUE=DATE:20260404
LOCATION:James M. Nederlander Theatre\, Chicago
ORGANIZER;CN=:mailto:events@events.org
SEQUENCE:0
SUMMARY:The Wiz (Chicago)
UID:4dd7cc27-b560-491f-bad7-cc8868f9d09a
URL:https://events.org/e/The-Wiz-Chicago/43LFAEAW
BEGIN:VALARM
ACTION:DISPLAY
SUMMARY:Reminder
TRIGGER:-P1D
END:VALARM
END:VEVENT
END:VCALENDAR
