BEGIN:VCALENDAR
METHOD:REQUEST
PRODID:-//events.orgNONSGML ical.net 4.0//EN
VERSION:2.0
BEGIN:VEVENT
DTEND;VALUE=DATE:20260606
DTSTAMP:20260421T104031Z
DTSTART;VALUE=DATE:20260606
LOCATION:Denver Improv\, Denver
ORGANIZER;CN=:mailto:events@events.org
SEQUENCE:0
SUMMARY:Mojo Brookzz
UID:520188d9-c602-4a0c-b3b1-c14cd7a3502c
URL:https://events.org/e/Mojo-Brookzz/67TJ7RX6
BEGIN:VALARM
ACTION:DISPLAY
SUMMARY:Reminder
TRIGGER:-P1D
END:VALARM
END:VEVENT
END:VCALENDAR
