BEGIN:VCALENDAR
METHOD:REQUEST
PRODID:-//events.orgNONSGML ical.net 4.0//EN
VERSION:2.0
BEGIN:VEVENT
DTEND;VALUE=DATE:20260622
DTSTAMP:20260423T133025Z
DTSTART;VALUE=DATE:20260622
LOCATION:The Fillmore Detroit\, Detroit
ORGANIZER;CN=:mailto:events@events.org
SEQUENCE:0
SUMMARY:French Montana And Max B - Wave Gods Narcos Tour
UID:bd81eef0-6a2a-48b8-b46c-5defbbf8c0af
URL:https://events.org/e/French-Montana-And-Max-B---Wave-Gods-Narcos-Tour/
 9LQQ4RSP
BEGIN:VALARM
ACTION:DISPLAY
SUMMARY:Reminder
TRIGGER:-P1D
END:VALARM
END:VEVENT
END:VCALENDAR
