BEGIN:VCALENDAR
METHOD:REQUEST
PRODID:-//events.orgNONSGML ical.net 4.0//EN
VERSION:2.0
BEGIN:VEVENT
DTEND;VALUE=DATE:20260805
DTSTAMP:20260422T091347Z
DTSTART;VALUE=DATE:20260805
LOCATION:Daikin Park\, Houston
ORGANIZER;CN=:mailto:events@events.org
SEQUENCE:0
SUMMARY:Houston Astros vs. Toronto Blue Jays
UID:10bedc50-3838-41b7-aea0-f184a4a51be9
URL:https://events.org/e/Houston-Astros-vs-Toronto-Blue-Jays/OXHT5VNX
BEGIN:VALARM
ACTION:DISPLAY
SUMMARY:Reminder
TRIGGER:-P1D
END:VALARM
END:VEVENT
END:VCALENDAR
