BEGIN:VCALENDAR
METHOD:REQUEST
PRODID:-//events.orgNONSGML ical.net 4.0//EN
VERSION:2.0
BEGIN:VEVENT
DTEND;VALUE=DATE:20260619
DTSTAMP:20260421T082141Z
DTSTART;VALUE=DATE:20260619
LOCATION:The Women's Museum\, Dallas
ORGANIZER;CN=:mailto:events@events.org
SEQUENCE:0
SUMMARY:JAZZ AT THE MUSE JUNETEENTH JAZZ JAM: Starring Martha Burks
UID:172c351b-cb25-41fe-b663-18a739fa1acc
URL:https://events.org/e/JAZZ-AT-THE-MUSE-JUNETEENTH-JAZZ-JAM-Starring/NFK
 47GPD
BEGIN:VALARM
ACTION:DISPLAY
SUMMARY:Reminder
TRIGGER:-P1D
END:VALARM
END:VEVENT
END:VCALENDAR
