BEGIN:VCALENDAR
METHOD:REQUEST
PRODID:-//events.orgNONSGML ical.net 4.0//EN
VERSION:2.0
BEGIN:VEVENT
DTEND;VALUE=DATE:20260425
DTSTAMP:20260421T094631Z
DTSTART;VALUE=DATE:20260425
LOCATION:Soldier Field\, Chicago
ORGANIZER;CN=:mailto:events@events.org
SEQUENCE:0
SUMMARY:Chicago Fire FC vs. Sporting Kansas City (Pennant to 1st 5K)
UID:7f5187d6-c501-4dfb-8aeb-ecff1a355ca3
URL:https://events.org/e/Chicago-Fire-FC-vs-Sporting-Kansas-City-Penna/SLF
 GKVG3
BEGIN:VALARM
ACTION:DISPLAY
SUMMARY:Reminder
TRIGGER:-P1D
END:VALARM
END:VEVENT
END:VCALENDAR
