BEGIN:VCALENDAR
METHOD:REQUEST
PRODID:-//events.orgNONSGML ical.net 4.0//EN
VERSION:2.0
BEGIN:VEVENT
DTEND;VALUE=DATE:20260510
DTSTAMP:20260424T080630Z
DTSTART;VALUE=DATE:20260510
LOCATION:Underground Arts\, Philadelphia
ORGANIZER;CN=:mailto:events@events.org
SEQUENCE:0
SUMMARY:Jay Electronica (21+ Event)
UID:1f07b3b8-10d9-439d-82ec-d3ebe41a6fc0
URL:https://events.org/e/Jay-Electronica-21-Event/2HTIXIE9
BEGIN:VALARM
ACTION:DISPLAY
SUMMARY:Reminder
TRIGGER:-P1D
END:VALARM
END:VEVENT
END:VCALENDAR
