BEGIN:VCALENDAR
METHOD:REQUEST
PRODID:-//events.orgNONSGML ical.net 4.0//EN
VERSION:2.0
BEGIN:VEVENT
DTEND;VALUE=DATE:20260423
DTSTAMP:20260422T090302Z
DTSTART;VALUE=DATE:20260423
LOCATION:Radio City Music Hall\, New York
ORGANIZER;CN=:mailto:events@events.org
SEQUENCE:0
SUMMARY:Modi: Live at Radio City!
UID:f61b555c-aee8-4bc6-bd26-7f43d2c16c17
URL:https://events.org/e/Modi-Live-at-Radio-City/4677397E
BEGIN:VALARM
ACTION:DISPLAY
SUMMARY:Reminder
TRIGGER:-P1D
END:VALARM
END:VEVENT
END:VCALENDAR
