BEGIN:VCALENDAR
METHOD:REQUEST
PRODID:-//events.orgNONSGML ical.net 4.0//EN
VERSION:2.0
BEGIN:VEVENT
DTEND;VALUE=DATE:20260512
DTSTAMP:20260421T095737Z
DTSTART;VALUE=DATE:20260512
LOCATION:Punch Line Philly\, Philadelphia
ORGANIZER;CN=:mailto:events@events.org
SEQUENCE:0
SUMMARY:The Moth Storyslam: I Got It From My Mama
UID:b1807c11-0900-449d-84f4-8ca0b15facd9
URL:https://events.org/e/The-Moth-Storyslam-I-Got-It-From-My-Mama/YENIV7GN
BEGIN:VALARM
ACTION:DISPLAY
SUMMARY:Reminder
TRIGGER:-P1D
END:VALARM
END:VEVENT
END:VCALENDAR
