BEGIN:VCALENDAR
METHOD:REQUEST
PRODID:-//events.orgNONSGML ical.net 4.0//EN
VERSION:2.0
BEGIN:VEVENT
DTEND;VALUE=DATE:20260426
DTSTAMP:20260423T133752Z
DTSTART;VALUE=DATE:20260426
LOCATION:Bellco Theatre\, Denver
ORGANIZER;CN=:mailto:events@events.org
SEQUENCE:0
SUMMARY:Kal Ho Na Ho w/ Shankar Ehsaan Loy
UID:9c2751ae-d7fa-4599-a556-27dbd6d91285
URL:https://events.org/e/Kal-Ho-Na-Ho-w-Shankar-Ehsaan-Loy/O35EBIHA
BEGIN:VALARM
ACTION:DISPLAY
SUMMARY:Reminder
TRIGGER:-P1D
END:VALARM
END:VEVENT
END:VCALENDAR
