BEGIN:VCALENDAR
METHOD:REQUEST
PRODID:-//events.orgNONSGML ical.net 4.0//EN
VERSION:2.0
BEGIN:VEVENT
DTEND;VALUE=DATE:20260424
DTSTAMP:20260422T090545Z
DTSTART;VALUE=DATE:20260424
LOCATION:Marquis Theatre\, New York
ORGANIZER;CN=:mailto:events@events.org
SEQUENCE:0
SUMMARY:Stranger Things: The First Shadow
UID:4259c0d9-bd24-4f0b-8ca0-f3b13e7910ea
URL:https://events.org/e/Stranger-Things-The-First-Shadow/HMGRD5NX
BEGIN:VALARM
ACTION:DISPLAY
SUMMARY:Reminder
TRIGGER:-P1D
END:VALARM
END:VEVENT
END:VCALENDAR
