BEGIN:VCALENDAR
METHOD:REQUEST
PRODID:-//events.orgNONSGML ical.net 4.0//EN
VERSION:2.0
BEGIN:VEVENT
DTEND;VALUE=DATE:20260424
DTSTAMP:20260422T092000Z
DTSTART;VALUE=DATE:20260424
LOCATION:Racket NYC\, New York
ORGANIZER;CN=:mailto:events@events.org
SEQUENCE:0
SUMMARY:Little Miss Nasty (18 and Over)
UID:eab70cfb-a6bd-4872-aec3-94d3962f9633
URL:https://events.org/e/Little-Miss-Nasty-18-and-Over/DITYPN8C
BEGIN:VALARM
ACTION:DISPLAY
SUMMARY:Reminder
TRIGGER:-P1D
END:VALARM
END:VEVENT
END:VCALENDAR
